BEGIN:VCALENDAR

VERSION:2.0

PRODID:-//hacksw/handcal//NONSGML v1.0//EN

BEGIN:VEVENT

UID:c9f654c54bb37535425e9bf3ad38f9cd

DTSTAMP:20260420T105011Z

DTSTART:20260422T160000

DTEND:20260422T163000

SUMMARY:L40075193 - 17 Azalea Drive, BONGAREE QLD 4507

LOCATION:17 Azalea Drive, BONGAREE QLD 4507

END:VEVENT

END:VCALENDAR