BEGIN:VCALENDAR

VERSION:2.0

PRODID:-//hacksw/handcal//NONSGML v1.0//EN

BEGIN:VEVENT

UID:1721cf10bcbe655a487b12700178ef2e

DTSTAMP:20260426T041951Z

DTSTART:20260427T160000

DTEND:20260427T161500

SUMMARY:R3362935 - 2/18 Eastleigh Street, CHERMSIDE QLD 4032

LOCATION:2/18 Eastleigh Street, CHERMSIDE QLD 4032

END:VEVENT

END:VCALENDAR